BEGIN:VCALENDAR
VERSION:2.0
PRODID:-//Cornelius-Burgh-Gymnasium - ECPv6.15.20//NONSGML v1.0//EN
CALSCALE:GREGORIAN
METHOD:PUBLISH
X-WR-CALNAME:Cornelius-Burgh-Gymnasium
X-ORIGINAL-URL:https://cbg-erkelenz.de
X-WR-CALDESC:Veranstaltungen für Cornelius-Burgh-Gymnasium
REFRESH-INTERVAL;VALUE=DURATION:PT1H
X-Robots-Tag:noindex
X-PUBLISHED-TTL:PT1H
BEGIN:VTIMEZONE
TZID:UTC
BEGIN:STANDARD
TZOFFSETFROM:+0000
TZOFFSETTO:+0000
TZNAME:UTC
DTSTART:20210101T000000
END:STANDARD
END:VTIMEZONE
BEGIN:VEVENT
DTSTART;TZID=UTC:20221214T180000
DTEND;TZID=UTC:20221214T210000
DTSTAMP:20260425T180827
CREATED:20220816T065751Z
LAST-MODIFIED:20220816T065751Z
UID:11157-1671040800-1671051600@cbg-erkelenz.de
SUMMARY:Schulkonferenz (2.)
DESCRIPTION:
URL:https://cbg-erkelenz.de/event/schulkonferenz-2/
CATEGORIES:Allgemein
END:VEVENT
END:VCALENDAR