BEGIN:VCALENDAR
VERSION:2.0
PRODID:-//Cornelius-Burgh-Gymnasium - ECPv6.15.20//NONSGML v1.0//EN
CALSCALE:GREGORIAN
METHOD:PUBLISH
X-ORIGINAL-URL:https://cbg-erkelenz.de
X-WR-CALDESC:Veranstaltungen für Cornelius-Burgh-Gymnasium
REFRESH-INTERVAL;VALUE=DURATION:PT1H
X-Robots-Tag:noindex
X-PUBLISHED-TTL:PT1H
BEGIN:VTIMEZONE
TZID:Europe/Paris
BEGIN:DAYLIGHT
TZOFFSETFROM:+0100
TZOFFSETTO:+0200
TZNAME:CEST
DTSTART:20210328T010000
END:DAYLIGHT
BEGIN:STANDARD
TZOFFSETFROM:+0200
TZOFFSETTO:+0100
TZNAME:CET
DTSTART:20211031T010000
END:STANDARD
BEGIN:DAYLIGHT
TZOFFSETFROM:+0100
TZOFFSETTO:+0200
TZNAME:CEST
DTSTART:20220327T010000
END:DAYLIGHT
BEGIN:STANDARD
TZOFFSETFROM:+0200
TZOFFSETTO:+0100
TZNAME:CET
DTSTART:20221030T010000
END:STANDARD
BEGIN:DAYLIGHT
TZOFFSETFROM:+0100
TZOFFSETTO:+0200
TZNAME:CEST
DTSTART:20230326T010000
END:DAYLIGHT
BEGIN:STANDARD
TZOFFSETFROM:+0200
TZOFFSETTO:+0100
TZNAME:CET
DTSTART:20231029T010000
END:STANDARD
END:VTIMEZONE
BEGIN:VEVENT
DTSTART;TZID=Europe/Paris:20221216T090000
DTEND;TZID=Europe/Paris:20221216T130000
DTSTAMP:20260425T145658
CREATED:20221210T152851Z
LAST-MODIFIED:20221210T152851Z
UID:14124-1671181200-1671195600@cbg-erkelenz.de
SUMMARY:EF\, Q1\, Q2: Berufs- und Studienberatung der Agentur für Arbeit ERK
DESCRIPTION:für die Oberstufe in Raum 0.03 \n(Terminliste im Sekretariat)
URL:https://cbg-erkelenz.de/event/ef-q1-q2-berufs-und-studienberatung-der-agentur-fuer-arbeit-erk/
CATEGORIES:Schüler*innen
END:VEVENT
END:VCALENDAR