BEGIN:VCALENDAR
VERSION:2.0
PRODID:-//Cornelius-Burgh-Gymnasium - ECPv6.15.20//NONSGML v1.0//EN
CALSCALE:GREGORIAN
METHOD:PUBLISH
X-ORIGINAL-URL:https://cbg-erkelenz.de
X-WR-CALDESC:Veranstaltungen für Cornelius-Burgh-Gymnasium
REFRESH-INTERVAL;VALUE=DURATION:PT1H
X-Robots-Tag:noindex
X-PUBLISHED-TTL:PT1H
BEGIN:VTIMEZONE
TZID:Europe/Paris
BEGIN:DAYLIGHT
TZOFFSETFROM:+0100
TZOFFSETTO:+0200
TZNAME:CEST
DTSTART:20230326T010000
END:DAYLIGHT
BEGIN:STANDARD
TZOFFSETFROM:+0200
TZOFFSETTO:+0100
TZNAME:CET
DTSTART:20231029T010000
END:STANDARD
BEGIN:DAYLIGHT
TZOFFSETFROM:+0100
TZOFFSETTO:+0200
TZNAME:CEST
DTSTART:20240331T010000
END:DAYLIGHT
BEGIN:STANDARD
TZOFFSETFROM:+0200
TZOFFSETTO:+0100
TZNAME:CET
DTSTART:20241027T010000
END:STANDARD
BEGIN:DAYLIGHT
TZOFFSETFROM:+0100
TZOFFSETTO:+0200
TZNAME:CEST
DTSTART:20250330T010000
END:DAYLIGHT
BEGIN:STANDARD
TZOFFSETFROM:+0200
TZOFFSETTO:+0100
TZNAME:CET
DTSTART:20251026T010000
END:STANDARD
END:VTIMEZONE
BEGIN:VEVENT
DTSTART;TZID=Europe/Paris:20240221T151500
DTEND;TZID=Europe/Paris:20240221T180000
DTSTAMP:20260421T162714
CREATED:20240119T104126Z
LAST-MODIFIED:20240119T104126Z
UID:15781-1708528500-1708538400@cbg-erkelenz.de
SUMMARY:Sitzung der ESL
DESCRIPTION:
URL:https://cbg-erkelenz.de/event/sitzung-der-esl/
CATEGORIES:Lehrer*innen
END:VEVENT
BEGIN:VEVENT
DTSTART;TZID=Europe/Paris:20240221T190000
DTEND;TZID=Europe/Paris:20240221T203000
DTSTAMP:20260421T162714
CREATED:20240127T165357Z
LAST-MODIFIED:20240127T165357Z
UID:15804-1708542000-1708547400@cbg-erkelenz.de
SUMMARY:Jg.10/Zukünftige EF: Elterninformationsabend
DESCRIPTION:
URL:https://cbg-erkelenz.de/event/jg-10-zukuenftige-ef-elterninformationsabend/
CATEGORIES:Eltern,Neulinge
END:VEVENT
END:VCALENDAR